BEGIN:VCALENDAR
VERSION:2.0
PRODID:-//City of Southgate KY - ECPv6.15.20//NONSGML v1.0//EN
CALSCALE:GREGORIAN
METHOD:PUBLISH
X-ORIGINAL-URL:https://southgateky.org
X-WR-CALDESC:Events for City of Southgate KY
REFRESH-INTERVAL;VALUE=DURATION:PT1H
X-Robots-Tag:noindex
X-PUBLISHED-TTL:PT1H
BEGIN:VTIMEZONE
TZID:America/New_York
BEGIN:DAYLIGHT
TZOFFSETFROM:-0500
TZOFFSETTO:-0400
TZNAME:EDT
DTSTART:20220313T070000
END:DAYLIGHT
BEGIN:STANDARD
TZOFFSETFROM:-0400
TZOFFSETTO:-0500
TZNAME:EST
DTSTART:20221106T060000
END:STANDARD
BEGIN:DAYLIGHT
TZOFFSETFROM:-0500
TZOFFSETTO:-0400
TZNAME:EDT
DTSTART:20230312T070000
END:DAYLIGHT
BEGIN:STANDARD
TZOFFSETFROM:-0400
TZOFFSETTO:-0500
TZNAME:EST
DTSTART:20231105T060000
END:STANDARD
BEGIN:DAYLIGHT
TZOFFSETFROM:-0500
TZOFFSETTO:-0400
TZNAME:EDT
DTSTART:20240310T070000
END:DAYLIGHT
BEGIN:STANDARD
TZOFFSETFROM:-0400
TZOFFSETTO:-0500
TZNAME:EST
DTSTART:20241103T060000
END:STANDARD
END:VTIMEZONE
BEGIN:VEVENT
DTSTART;TZID=America/New_York:20230920T183000
DTEND;TZID=America/New_York:20230920T193000
DTSTAMP:20260420T040952
CREATED:20230919T124600Z
LAST-MODIFIED:20230919T124600Z
UID:10000336-1695234600-1695238200@southgateky.org
SUMMARY:Council meeting 9/20/23 cancelled
DESCRIPTION:The City Council meeting has been cancelled for 9/20/23
URL:https://southgateky.org/event/council-meeting-9-20-23-cancelled/
END:VEVENT
BEGIN:VEVENT
DTSTART;TZID=America/New_York:20230920T183000
DTEND;TZID=America/New_York:20230920T200000
DTSTAMP:20260420T040952
CREATED:20220815T225548Z
LAST-MODIFIED:20230103T135711Z
UID:10000155-1695234600-1695240000@southgateky.org
SUMMARY:Council Meetings
DESCRIPTION:Regular Council meetings are held \nFirst & Third Wednesdays of month at 6:30 pm \nat City Building 122 Electric Ave.
URL:https://southgateky.org/event/council-meetings-2022-09-28-2022-12-28/2023-09-20/
LOCATION:Southgate City Building\, 122 Electric Ave.\, Southgate\, KY\, 41071\, United States
END:VEVENT
BEGIN:VEVENT
DTSTART;TZID=America/New_York:20230920T183000
DTEND;TZID=America/New_York:20230920T200000
DTSTAMP:20260420T040952
CREATED:20230908T183341Z
LAST-MODIFIED:20230908T183341Z
UID:10000335-1695234600-1695240000@southgateky.org
SUMMARY:Council meeting 9/20 cancelled
DESCRIPTION:
URL:https://southgateky.org/event/council-meeting-9-20-cancelled/
END:VEVENT
END:VCALENDAR