BEGIN:VCALENDAR
VERSION:2.0
PRODID:-//City of Southgate KY - ECPv6.15.20//NONSGML v1.0//EN
CALSCALE:GREGORIAN
METHOD:PUBLISH
X-ORIGINAL-URL:https://southgateky.org
X-WR-CALDESC:Events for City of Southgate KY
REFRESH-INTERVAL;VALUE=DURATION:PT1H
X-Robots-Tag:noindex
X-PUBLISHED-TTL:PT1H
BEGIN:VTIMEZONE
TZID:America/New_York
BEGIN:DAYLIGHT
TZOFFSETFROM:-0500
TZOFFSETTO:-0400
TZNAME:EDT
DTSTART:20240310T070000
END:DAYLIGHT
BEGIN:STANDARD
TZOFFSETFROM:-0400
TZOFFSETTO:-0500
TZNAME:EST
DTSTART:20241103T060000
END:STANDARD
BEGIN:DAYLIGHT
TZOFFSETFROM:-0500
TZOFFSETTO:-0400
TZNAME:EDT
DTSTART:20250309T070000
END:DAYLIGHT
BEGIN:STANDARD
TZOFFSETFROM:-0400
TZOFFSETTO:-0500
TZNAME:EST
DTSTART:20251102T060000
END:STANDARD
BEGIN:DAYLIGHT
TZOFFSETFROM:-0500
TZOFFSETTO:-0400
TZNAME:EDT
DTSTART:20260308T070000
END:DAYLIGHT
BEGIN:STANDARD
TZOFFSETFROM:-0400
TZOFFSETTO:-0500
TZNAME:EST
DTSTART:20261101T060000
END:STANDARD
END:VTIMEZONE
BEGIN:VEVENT
DTSTART;TZID=America/New_York:20250507T183000
DTEND;TZID=America/New_York:20250507T193000
DTSTAMP:20260419T093845
CREATED:20250514T185128Z
LAST-MODIFIED:20250514T185128Z
UID:10000814-1746642600-1746646200@southgateky.org
SUMMARY:agenda 5/7/25
DESCRIPTION:2025-05-07 agenda
URL:https://southgateky.org/event/agenda-5-7-25/
END:VEVENT
BEGIN:VEVENT
DTSTART;TZID=America/New_York:20250507T183000
DTEND;TZID=America/New_York:20250507T200000
DTSTAMP:20260419T093845
CREATED:20231110T163314Z
LAST-MODIFIED:20231110T163314Z
UID:10000519-1746642600-1746648000@southgateky.org
SUMMARY:City Council Meeting
DESCRIPTION:Council meetings are first and third Wednesdays of the month.  Meetings are held at City Building 122 Electric Ave. at 6:30pm
URL:https://southgateky.org/event/city-council-meeting/2025-05-07/
END:VEVENT
END:VCALENDAR