BEGIN:VCALENDAR
VERSION:2.0
PRODID:-//City of Southgate KY - ECPv6.15.20//NONSGML v1.0//EN
CALSCALE:GREGORIAN
METHOD:PUBLISH
X-WR-CALNAME:City of Southgate KY
X-ORIGINAL-URL:https://southgateky.org
X-WR-CALDESC:Events for City of Southgate KY
REFRESH-INTERVAL;VALUE=DURATION:PT1H
X-Robots-Tag:noindex
X-PUBLISHED-TTL:PT1H
BEGIN:VTIMEZONE
TZID:America/New_York
BEGIN:DAYLIGHT
TZOFFSETFROM:-0500
TZOFFSETTO:-0400
TZNAME:EDT
DTSTART:20250309T070000
END:DAYLIGHT
BEGIN:STANDARD
TZOFFSETFROM:-0400
TZOFFSETTO:-0500
TZNAME:EST
DTSTART:20251102T060000
END:STANDARD
BEGIN:DAYLIGHT
TZOFFSETFROM:-0500
TZOFFSETTO:-0400
TZNAME:EDT
DTSTART:20260308T070000
END:DAYLIGHT
BEGIN:STANDARD
TZOFFSETFROM:-0400
TZOFFSETTO:-0500
TZNAME:EST
DTSTART:20261101T060000
END:STANDARD
BEGIN:DAYLIGHT
TZOFFSETFROM:-0500
TZOFFSETTO:-0400
TZNAME:EDT
DTSTART:20270314T070000
END:DAYLIGHT
BEGIN:STANDARD
TZOFFSETFROM:-0400
TZOFFSETTO:-0500
TZNAME:EST
DTSTART:20271107T060000
END:STANDARD
END:VTIMEZONE
BEGIN:VEVENT
DTSTART;TZID=America/New_York:20260510T080000
DTEND;TZID=America/New_York:20260516T170000
DTSTAMP:20260422T120448
CREATED:20250423T143502Z
LAST-MODIFIED:20260414T140509Z
UID:10000809-1778400000-1778950800@southgateky.org
SUMMARY:National Police Week
DESCRIPTION:
URL:https://southgateky.org/event/national-police-week/
END:VEVENT
BEGIN:VEVENT
DTSTART;TZID=America/New_York:20260511T080000
DTEND;TZID=America/New_York:20260518T170000
DTSTAMP:20260422T120448
CREATED:20240710T150753Z
LAST-MODIFIED:20260402T143807Z
UID:10000617-1778486400-1779123600@southgateky.org
SUMMARY:Southgate Clean Up Event
DESCRIPTION:Southgate Clean Up Event May 11-18.  Dumpster at the City Garage 206 W. Walnut for residents use only. \nItems not permitted: \nHazardous waste \nLiquids: paint\, oil\, stain \nConstruction material \ntires
URL:https://southgateky.org/event/southgate-clean-up-event-2/
END:VEVENT
END:VCALENDAR