BEGIN:VCALENDAR
VERSION:2.0
PRODID:-//City of Southgate KY - ECPv6.15.20//NONSGML v1.0//EN
CALSCALE:GREGORIAN
METHOD:PUBLISH
X-ORIGINAL-URL:https://southgateky.org
X-WR-CALDESC:Events for City of Southgate KY
REFRESH-INTERVAL;VALUE=DURATION:PT1H
X-Robots-Tag:noindex
X-PUBLISHED-TTL:PT1H
BEGIN:VTIMEZONE
TZID:America/New_York
BEGIN:DAYLIGHT
TZOFFSETFROM:-0500
TZOFFSETTO:-0400
TZNAME:EDT
DTSTART:20240310T070000
END:DAYLIGHT
BEGIN:STANDARD
TZOFFSETFROM:-0400
TZOFFSETTO:-0500
TZNAME:EST
DTSTART:20241103T060000
END:STANDARD
BEGIN:DAYLIGHT
TZOFFSETFROM:-0500
TZOFFSETTO:-0400
TZNAME:EDT
DTSTART:20250309T070000
END:DAYLIGHT
BEGIN:STANDARD
TZOFFSETFROM:-0400
TZOFFSETTO:-0500
TZNAME:EST
DTSTART:20251102T060000
END:STANDARD
BEGIN:DAYLIGHT
TZOFFSETFROM:-0500
TZOFFSETTO:-0400
TZNAME:EDT
DTSTART:20260308T070000
END:DAYLIGHT
BEGIN:STANDARD
TZOFFSETFROM:-0400
TZOFFSETTO:-0500
TZNAME:EST
DTSTART:20261101T060000
END:STANDARD
END:VTIMEZONE
BEGIN:VEVENT
DTSTART;TZID=America/New_York:20250305T183000
DTEND;TZID=America/New_York:20250305T193000
DTSTAMP:20260419T093839
CREATED:20250303T190211Z
LAST-MODIFIED:20250303T190211Z
UID:10000801-1741199400-1741203000@southgateky.org
SUMMARY:Agenda 3/5/25
DESCRIPTION:Agenda 3/5/252025-03-05 agenda
URL:https://southgateky.org/event/agenda-3-5-25/
END:VEVENT
BEGIN:VEVENT
DTSTART;TZID=America/New_York:20250305T183000
DTEND;TZID=America/New_York:20250305T200000
DTSTAMP:20260419T093839
CREATED:20231110T163314Z
LAST-MODIFIED:20231110T163314Z
UID:10000517-1741199400-1741204800@southgateky.org
SUMMARY:City Council Meeting
DESCRIPTION:Council meetings are first and third Wednesdays of the month.  Meetings are held at City Building 122 Electric Ave. at 6:30pm
URL:https://southgateky.org/event/city-council-meeting/2025-03-05/
END:VEVENT
BEGIN:VEVENT
DTSTART;VALUE=DATE:20250309
DTEND;VALUE=DATE:20250310
DTSTAMP:20260419T093839
CREATED:20250226T133335Z
LAST-MODIFIED:20250226T135016Z
UID:10000670-1741478400-1741564799@southgateky.org
SUMMARY:Spring forward Daylight Savings Time
DESCRIPTION:Spring forward Daylight Savings Time Sunday March 9
URL:https://southgateky.org/event/spring-forward-daylight-savings-time/
END:VEVENT
BEGIN:VEVENT
DTSTART;TZID=America/New_York:20250310T180000
DTEND;TZID=America/New_York:20250310T190000
DTSTAMP:20260419T093839
CREATED:20230213T193315Z
LAST-MODIFIED:20230213T193315Z
UID:10000255-1741629600-1741633200@southgateky.org
SUMMARY:Park & Tree Board meeting
DESCRIPTION:Park & Tree Board meeting \n2nd Monday of the month at 6:00 \n301 W. Walnut St.
URL:https://southgateky.org/event/park-tree-board-meeting-2/2025-03-10/
END:VEVENT
BEGIN:VEVENT
DTSTART;TZID=America/New_York:20250310T180000
DTEND;TZID=America/New_York:20250310T190000
DTSTAMP:20260419T093839
CREATED:20250213T140423Z
LAST-MODIFIED:20250304T140323Z
UID:10000668-1741629600-1741633200@southgateky.org
SUMMARY:Park & Tree Board Plant Swap
DESCRIPTION:Southgate Park and Tree Board – PLANT SWAP!       \nStop by the March 10\, 2025 Park and Tree Board Meeting to participate in a Plant Swap!  Bring your seeds\, seedlings\, plants\, or flowers to swap for other varieties and help “Grow Our Community!”   \n\nDate and Time:  Monday\, March 10\, 6 PM – 7 PM  \nPlace:  Southgate Community Center\, 301 W Walnut St.
URL:https://southgateky.org/event/park-tree-board-plant-swap/
END:VEVENT
BEGIN:VEVENT
DTSTART;TZID=America/New_York:20250319T183000
DTEND;TZID=America/New_York:20250319T193000
DTSTAMP:20260419T093839
CREATED:20250319T155941Z
LAST-MODIFIED:20250319T155941Z
UID:10000802-1742409000-1742412600@southgateky.org
SUMMARY:Agenda 3/19/25
DESCRIPTION:2025-03-19 agenda
URL:https://southgateky.org/event/agenda-3-19-25/
END:VEVENT
BEGIN:VEVENT
DTSTART;TZID=America/New_York:20250319T183000
DTEND;TZID=America/New_York:20250319T200000
DTSTAMP:20260419T093839
CREATED:20231110T163016Z
LAST-MODIFIED:20231110T163016Z
UID:10000458-1742409000-1742414400@southgateky.org
SUMMARY:City Council Meeting
DESCRIPTION:Council meetings are first and third Wednesdays of the month.  Meetings are held at City Building 122 Electric Ave. at 6:30pm
URL:https://southgateky.org/event/city-council-meeting-2/2025-03-19/
END:VEVENT
BEGIN:VEVENT
DTSTART;TZID=America/New_York:20250327T170000
DTEND;TZID=America/New_York:20250327T190000
DTSTAMP:20260419T093839
CREATED:20250303T185853Z
LAST-MODIFIED:20250303T185853Z
UID:10000800-1743094800-1743102000@southgateky.org
SUMMARY:Southgate Independent School Preschool & Kindergarten registration
DESCRIPTION:Southgate Independent Schools Early Preschool and Kindergarten Registration \nMarch 27  5:00-7:00pm \n  \n 
URL:https://southgateky.org/event/southgate-independent-school-preschool-kindergarten-registration/
END:VEVENT
END:VCALENDAR