BEGIN:VCALENDAR
VERSION:2.0
PRODID:-//City of Southgate KY - ECPv6.15.20//NONSGML v1.0//EN
CALSCALE:GREGORIAN
METHOD:PUBLISH
X-ORIGINAL-URL:https://southgateky.org
X-WR-CALDESC:Events for City of Southgate KY
REFRESH-INTERVAL;VALUE=DURATION:PT1H
X-Robots-Tag:noindex
X-PUBLISHED-TTL:PT1H
BEGIN:VTIMEZONE
TZID:America/New_York
BEGIN:DAYLIGHT
TZOFFSETFROM:-0500
TZOFFSETTO:-0400
TZNAME:EDT
DTSTART:20240310T070000
END:DAYLIGHT
BEGIN:STANDARD
TZOFFSETFROM:-0400
TZOFFSETTO:-0500
TZNAME:EST
DTSTART:20241103T060000
END:STANDARD
BEGIN:DAYLIGHT
TZOFFSETFROM:-0500
TZOFFSETTO:-0400
TZNAME:EDT
DTSTART:20250309T070000
END:DAYLIGHT
BEGIN:STANDARD
TZOFFSETFROM:-0400
TZOFFSETTO:-0500
TZNAME:EST
DTSTART:20251102T060000
END:STANDARD
BEGIN:DAYLIGHT
TZOFFSETFROM:-0500
TZOFFSETTO:-0400
TZNAME:EDT
DTSTART:20260308T070000
END:DAYLIGHT
BEGIN:STANDARD
TZOFFSETFROM:-0400
TZOFFSETTO:-0500
TZNAME:EST
DTSTART:20261101T060000
END:STANDARD
END:VTIMEZONE
BEGIN:VEVENT
DTSTART;TZID=America/New_York:20250402T183000
DTEND;TZID=America/New_York:20250402T190000
DTSTAMP:20260419T075822
CREATED:20250331T182113Z
LAST-MODIFIED:20250331T182306Z
UID:10000804-1743618600-1743620400@southgateky.org
SUMMARY:Agenda 4/2/25
DESCRIPTION:2025-04-02 agenda
URL:https://southgateky.org/event/agenda-4-2-25/
END:VEVENT
BEGIN:VEVENT
DTSTART;TZID=America/New_York:20250402T183000
DTEND;TZID=America/New_York:20250402T200000
DTSTAMP:20260419T075822
CREATED:20231110T163314Z
LAST-MODIFIED:20231110T163314Z
UID:10000518-1743618600-1743624000@southgateky.org
SUMMARY:City Council Meeting
DESCRIPTION:Council meetings are first and third Wednesdays of the month.  Meetings are held at City Building 122 Electric Ave. at 6:30pm
URL:https://southgateky.org/event/city-council-meeting/2025-04-02/
END:VEVENT
BEGIN:VEVENT
DTSTART;TZID=America/New_York:20250403T183000
DTEND;TZID=America/New_York:20250403T193000
DTSTAMP:20260419T075822
CREATED:20250331T182743Z
LAST-MODIFIED:20250331T182851Z
UID:10000805-1743705000-1743708600@southgateky.org
SUMMARY:Agenda 4/3/25
DESCRIPTION:4-3-2025 agenda
URL:https://southgateky.org/event/agenda-4-3-25/
END:VEVENT
BEGIN:VEVENT
DTSTART;TZID=America/New_York:20250414T180000
DTEND;TZID=America/New_York:20250414T190000
DTSTAMP:20260419T075822
CREATED:20230213T193315Z
LAST-MODIFIED:20230213T193315Z
UID:10000256-1744653600-1744657200@southgateky.org
SUMMARY:Park & Tree Board meeting
DESCRIPTION:Park & Tree Board meeting \n2nd Monday of the month at 6:00 \n301 W. Walnut St.
URL:https://southgateky.org/event/park-tree-board-meeting-2/2025-04-14/
END:VEVENT
BEGIN:VEVENT
DTSTART;TZID=America/New_York:20250416T183000
DTEND;TZID=America/New_York:20250416T200000
DTSTAMP:20260419T075822
CREATED:20231110T163016Z
LAST-MODIFIED:20231110T163016Z
UID:10000459-1744828200-1744833600@southgateky.org
SUMMARY:City Council Meeting
DESCRIPTION:Council meetings are first and third Wednesdays of the month.  Meetings are held at City Building 122 Electric Ave. at 6:30pm
URL:https://southgateky.org/event/city-council-meeting-2/2025-04-16/
END:VEVENT
END:VCALENDAR